BEGIN:VCALENDAR
VERSION:2.0
PRODID:-//The Embroiderers&#039; Guild, Queensland Inc. - ECPv4.9.6//NONSGML v1.0//EN
CALSCALE:GREGORIAN
METHOD:PUBLISH
X-WR-CALNAME:The Embroiderers&#039; Guild, Queensland Inc.
X-ORIGINAL-URL:http://www.embroiderersguildqld.org.au
X-WR-CALDESC:Events for The Embroiderers&#039; Guild, Queensland Inc.
BEGIN:VTIMEZONE
TZID:"Australia/Brisbane"
BEGIN:STANDARD
TZOFFSETFROM:+1000
TZOFFSETTO:+1000
TZNAME:AEST
DTSTART:20200101T000000
END:STANDARD
END:VTIMEZONE
BEGIN:VEVENT
DTSTART;TZID="Australia/Brisbane":20200421T093000
DTEND;TZID="Australia/Brisbane":20200421T150000
DTSTAMP:20200228T073555
CREATED:20200104T091927Z
LAST-MODIFIED:20200121T073231Z
UID:2409-1587461400-1587481200@www.embroiderersguildqld.org.au
SUMMARY:Hardanger Bon Bon Pincushion
DESCRIPTION:This 2-day class (Tuesday 21 April and Tuesday 28 April) is designed to be an initial journey into Hardanger Embroidery encompassing some counted thread embroidery techniques from Norway.  Hardanger Embroidery is traditionally a white on white embroidery which features on aprons and shirts worn as part of traditional folk costumes.  \nStudents will explore basic techniques – such as preparation gridding\, satin stitch including kloster blocks\, eyelets and cable stitch. On the second day\, students will delve into needleweaving including woven bars and dove’s eyes. Students will gain the knowledge to interpret and adapt commercial patterns. \nThe class is designed for those who have not previously undertaken any hardanger embroidery. Knowledge of basic embroidery terms and an appreciation of counted thread embroidery will be an advantage. \nStudents will complete the embroidery for a pincushion (17cm x 6cm) but there is some additional sewing required to complete the item. This panel could be made into a needlecase if preferred. \nNo preparation work is required prior to this relaxed 2-day class. \nTutor\nAlana Wegner \nClass Code      \nAW 21/04 \nClass Cost\n$120 for members; $160 for non-members\n \nKit\n$15 (to be paid to the Tutor on the first day of the class). \nThe kit includes prepared fabric\, threads and detailed notes. A list of other requirements for the class will be forwarded to you after enrolment. \nNote: The example is worked on white 28 count Cashel linen. \nClass registration and enquiries\nBookings are essential\, with a booking cut-off date of April 9\, 2020. Please complete the Class Registration Form on the website. \nFor more information\, contact the Class Registrar by phoning 3252 8629 or emailing classes@embroiderersguildqld.org.au \n
URL:http://www.embroiderersguildqld.org.au/event/hardanger-bon-bon-pincushion-day-1/
CATEGORIES:Classes,Events
END:VEVENT
END:VCALENDAR