BEGIN:VCALENDAR
VERSION:2.0
PRODID:-//The Embroiderers&#039; Guild, Queensland Inc. - ECPv4.9.6//NONSGML v1.0//EN
CALSCALE:GREGORIAN
METHOD:PUBLISH
X-WR-CALNAME:The Embroiderers&#039; Guild, Queensland Inc.
X-ORIGINAL-URL:http://www.embroiderersguildqld.org.au
X-WR-CALDESC:Events for The Embroiderers&#039; Guild, Queensland Inc.
BEGIN:VTIMEZONE
TZID:"Australia/Brisbane"
BEGIN:STANDARD
TZOFFSETFROM:+1000
TZOFFSETTO:+1000
TZNAME:AEST
DTSTART:20200101T000000
END:STANDARD
END:VTIMEZONE
BEGIN:VEVENT
DTSTART;TZID="Australia/Brisbane":20200216T093000
DTEND;TZID="Australia/Brisbane":20200216T140000
DTSTAMP:20200227T025105
CREATED:20191120T030235Z
LAST-MODIFIED:20191128T081556Z
UID:2380-1581845400-1581861600@www.embroiderersguildqld.org.au
SUMMARY:‘What’s next?’ An iPad cover - Scratching among the Flowers
DESCRIPTION: \nClick here for more information about ‘What’s next?’ Classes \n
URL:http://www.embroiderersguildqld.org.au/event/whats-next-an-ipad-cover-scratching-among-the-flowers/
CATEGORIES:Classes,Events
END:VEVENT
END:VCALENDAR