BEGIN:VCALENDAR
VERSION:2.0
PRODID:-//The Embroiderers&#039; Guild, Queensland Inc. - ECPv4.9.6//NONSGML v1.0//EN
CALSCALE:GREGORIAN
METHOD:PUBLISH
X-WR-CALNAME:The Embroiderers&#039; Guild, Queensland Inc.
X-ORIGINAL-URL:http://www.embroiderersguildqld.org.au
X-WR-CALDESC:Events for The Embroiderers&#039; Guild, Queensland Inc.
BEGIN:VTIMEZONE
TZID:"Australia/Brisbane"
BEGIN:STANDARD
TZOFFSETFROM:+1000
TZOFFSETTO:+1000
TZNAME:AEST
DTSTART:20200101T000000
END:STANDARD
END:VTIMEZONE
BEGIN:VEVENT
DTSTART;TZID="Australia/Brisbane":20200121T093000
DTEND;TZID="Australia/Brisbane":20200121T143000
DTSTAMP:20200228T072832
CREATED:20191220T100033Z
LAST-MODIFIED:20191220T101027Z
UID:2398-1579599000-1579617000@www.embroiderersguildqld.org.au
SUMMARY:Young Stitchers' Holiday Class
DESCRIPTION:This is a 2-day class from 9.30 am until 2.30 pm on Tuesday\, 21st and Thursday\, 23rd January\, 2020.  \n \n \n  \n  \n  \n  \n  \n  \n  \n  \n  \nClass Cost\n$55 for the two days\, which includes lunch and all materials.  Please bring your own morning tea. \nClass Code \nCHJN \nClass registration and enquiries\nBookings are essential\, with a booking cut-off date of 17 January.  Please complete the Young Stitchers’ Class Registration Form Jan 2020 on the website. \nFor more information\, contact the Class Registrar by emailing classes@embroiderersguildqld.org.au or phone 3252 8629.  View the Class Flyer Young Stitchers’ Class Flyer Jan 2020 \n
URL:http://www.embroiderersguildqld.org.au/event/young-stitchers-holiday-class/
CATEGORIES:Classes,Events,Young Embroiderers' Classes
END:VEVENT
END:VCALENDAR