BEGIN:VCALENDAR
VERSION:2.0
PRODID:-//The Embroiderers&#039; Guild, Queensland Inc. - ECPv4.9.6//NONSGML v1.0//EN
CALSCALE:GREGORIAN
METHOD:PUBLISH
X-WR-CALNAME:The Embroiderers&#039; Guild, Queensland Inc.
X-ORIGINAL-URL:http://www.embroiderersguildqld.org.au
X-WR-CALDESC:Events for The Embroiderers&#039; Guild, Queensland Inc.
BEGIN:VTIMEZONE
TZID:"Australia/Brisbane"
BEGIN:STANDARD
TZOFFSETFROM:+1000
TZOFFSETTO:+1000
TZNAME:AEST
DTSTART:20200101T000000
END:STANDARD
END:VTIMEZONE
BEGIN:VEVENT
DTSTART;TZID="Australia/Brisbane":20200303T093000
DTEND;TZID="Australia/Brisbane":20200303T150000
DTSTAMP:20200227T023649
CREATED:20191120T024858Z
LAST-MODIFIED:20200121T073320Z
UID:2372-1583227800-1583247600@www.embroiderersguildqld.org.au
SUMMARY:Ukrainian Whitework Biscornu
DESCRIPTION:This is a two-day class to be held on Tuesday 3 March (Day 1) and Tuesday 10 March (Day 2) and will focus on a biscornu\, which is designed to be an initial exploration of Ukrainian Whitework embroidery.  It will encompass counted thread embroidery techniques from several regions of the Ukraine including flat stitch\, pulled fabric stitches\, such as round and buttonhole eyelets\, and cut work known as myreshka.    \nThe finished size is approximately 11.5 cm x 11.5 cm and worked using white linen fabric with a count of 30 threads per inch (linen is supplied in the kit). \nWhile Ukrainian Whitework is traditionally white thread on white fabric\, students will be able to choose their own thread colour and these requirements will be sent to you before the class. The kit\, available on the first day at a cost of $10\, will include the prepared fabric and detailed notes. \nNo preparation work is required prior to this relaxed 2-day class.  Students will need to have some knowledge and appreciation of counted thread embroidery. \n  \nTutor\nAlana Wegner\n \nClass Code\nAW 03/03\n \nClass Cost\n$120.00 members; $160.00 non-members\n \nKit Cost\n$10.00 (to be paid to the Tutor on the first day of the class) \nThe kit includes prepared fabric and detailed notes. A list of other requirements for the class\, such as thread\, will be forwarded to you after enrolment. The project uses part ball of thread which you may already have in your stash. \n Note: Kits can be prepared with 28-count white Cashel linen as a substitute for the 30-count linen for the same cost.  Please inform the Class Registrar when enrolling. \n \nClass registration and enquiries\nBookings are essential\, with a booking cut-off date of 20 February\, 2020.  Please complete the Class Registration Form on the website. \nFor more information\, contact the Class Registrar by phoning 3252 8629 or emailing classes@embroiderersguildqld.org.au \n
URL:http://www.embroiderersguildqld.org.au/event/ukrainian-whitework-biscornu-day-1/
CATEGORIES:Classes,Events
END:VEVENT
END:VCALENDAR