BEGIN:VCALENDAR
VERSION:2.0
PRODID:-//The Embroiderers&#039; Guild, Queensland Inc. - ECPv4.9.6//NONSGML v1.0//EN
CALSCALE:GREGORIAN
METHOD:PUBLISH
X-WR-CALNAME:The Embroiderers&#039; Guild, Queensland Inc.
X-ORIGINAL-URL:http://www.embroiderersguildqld.org.au
X-WR-CALDESC:Events for The Embroiderers&#039; Guild, Queensland Inc.
BEGIN:VTIMEZONE
TZID:"Australia/Brisbane"
BEGIN:STANDARD
TZOFFSETFROM:+1000
TZOFFSETTO:+1000
TZNAME:AEST
DTSTART:20200101T000000
END:STANDARD
END:VTIMEZONE
BEGIN:VEVENT
DTSTART;TZID="Australia/Brisbane":20200503T090000
DTEND;TZID="Australia/Brisbane":20200503T140000
DTSTAMP:20200227T024704
CREATED:20200202T033748Z
LAST-MODIFIED:20200202T033748Z
UID:2451-1588496400-1588514400@www.embroiderersguildqld.org.au
SUMMARY:Mother's Day Craft Fair
DESCRIPTION: \n
URL:http://www.embroiderersguildqld.org.au/event/mothers-day-craft-fair-2/
CATEGORIES:Events
END:VEVENT
END:VCALENDAR