BEGIN:VCALENDAR
VERSION:2.0
PRODID:-//wp-events-plugin.com//7.2.3.1//EN
BEGIN:VEVENT
UID:27@embroiderersguildqld.org.au
DTSTART;TZID=Australia/Brisbane:20250705T093000
DTEND;TZID=Australia/Brisbane:20250705T150000
DTSTAMP:20250617T233434Z
URL:https://embroiderersguildqld.org.au/classes/colour-theory/
SUMMARY:Colour Theory
DESCRIPTION:Colour Theory
ATTACH;FMTTYPE=image/jpeg:https://embroiderersguildqld.org.au/wordpress/wp
 -content/uploads/2025/06/WEB-Class-Colour-1.jpg
CATEGORIES:Classes
LOCATION:Colour Theory
X-APPLE-STRUCTURED-LOCATION;VALUE=URI;X-ADDRESS=Colour Theory;X-APPLE-RADIU
 S=100;X-TITLE=Colour Theory:geo:0,0
END:VEVENT
BEGIN:VEVENT
UID:26@embroiderersguildqld.org.au
DTSTART;TZID=Australia/Brisbane:20250802T093000
DTEND;TZID=Australia/Brisbane:20250802T150000
DTSTAMP:20250611T105748Z
URL:https://embroiderersguildqld.org.au/classes/creative-canvas-a-needlepo
 int-trio/
SUMMARY:Creative Canvas - A Needlepoint Trio
DESCRIPTION:Creative Canvas - A Needlepoint Trio
ATTACH;FMTTYPE=image/jpeg:https://embroiderersguildqld.org.au/wordpress/wp
 -content/uploads/2025/06/WEB-Class-Canvas-Trio.jpg
CATEGORIES:Classes
LOCATION:Creative Canvas - A Needlepoint Trio
X-APPLE-STRUCTURED-LOCATION;VALUE=URI;X-ADDRESS=Creative Canvas - A Needlep
 oint Trio;X-APPLE-RADIUS=100;X-TITLE=Creative Canvas - A Needlepoint Trio:
 geo:0,0
END:VEVENT
BEGIN:VEVENT
UID:37@embroiderersguildqld.org.au
DTSTART;TZID=Australia/Brisbane:20250824T130000
DTEND;TZID=Australia/Brisbane:20250824T160000
DTSTAMP:20250612T005753Z
URL:https://embroiderersguildqld.org.au/classes/start-stitching-august-sti
 tch-book/
SUMMARY:Start Stitching August - Create a Stitch Book
DESCRIPTION:Start Stitching August - Create a Stitch Book
ATTACH;FMTTYPE=image/jpeg:https://embroiderersguildqld.org.au/wordpress/wp
 -content/uploads/2025/06/SS-stitch-book.jpg
CATEGORIES:Start Stitching
LOCATION:Start Stitching August - Create a Stitch Book
X-APPLE-STRUCTURED-LOCATION;VALUE=URI;X-ADDRESS=Start Stitching August - Cr
 eate a Stitch Book;X-APPLE-RADIUS=100;X-TITLE=Start Stitching August - Cre
 ate a Stitch Book:geo:0,0
END:VEVENT
BEGIN:VEVENT
UID:28@embroiderersguildqld.org.au
DTSTART;TZID=Australia/Brisbane:20250830T093000
DTEND;TZID=Australia/Brisbane:20250830T150000
DTSTAMP:20250825T005449Z
URL:https://embroiderersguildqld.org.au/classes/christmas-bauble-in-felt/
SUMMARY:Christmas Bauble in Felt
DESCRIPTION:Christmas Bauble in Felt
ATTACH;FMTTYPE=image/jpeg:https://embroiderersguildqld.org.au/wordpress/wp
 -content/uploads/2025/06/WEB-Class-Felt-Baubles-2.jpg
CATEGORIES:Classes
LOCATION:Christmas Bauble in Felt
X-APPLE-STRUCTURED-LOCATION;VALUE=URI;X-ADDRESS=Christmas Bauble in Felt;X-
 APPLE-RADIUS=100;X-TITLE=Christmas Bauble in Felt:geo:0,0
END:VEVENT
BEGIN:VEVENT
UID:39@embroiderersguildqld.org.au
DTSTART;TZID=Australia/Brisbane:20250914T093000
DTEND;TZID=Australia/Brisbane:20250914T150000
DTSTAMP:20250825T005458Z
URL:https://embroiderersguildqld.org.au/classes/art-deco-table-runner/
SUMMARY:Art Deco Table Runner
DESCRIPTION:Art Deco Table Runner
ATTACH;FMTTYPE=image/jpeg:https://embroiderersguildqld.org.au/wordpress/wp
 -content/uploads/2025/08/Art-Deco-3.webp
CATEGORIES:Classes
LOCATION:Art Deco Table Runner
X-APPLE-STRUCTURED-LOCATION;VALUE=URI;X-ADDRESS=Art Deco Table Runner;X-APP
 LE-RADIUS=100;X-TITLE=Art Deco Table Runner:geo:0,0
END:VEVENT
BEGIN:VEVENT
UID:5@embroiderersguildqld.org.au
DTSTART;TZID=Australia/Brisbane:20250927T093000
DTEND;TZID=Australia/Brisbane:20250927T150000
DTSTAMP:20250825T005109Z
URL:https://embroiderersguildqld.org.au/classes/blackwork-tudor-rose-cushi
 on/
SUMMARY:Portrait in Blackwork
DESCRIPTION:Portrait in Blackwork
ATTACH;FMTTYPE=image/jpeg:https://embroiderersguildqld.org.au/wordpress/wp
 -content/uploads/2025/06/WEB-Class-Blackwork.jpg
CATEGORIES:Classes
LOCATION:Portrait in Blackwork
X-APPLE-STRUCTURED-LOCATION;VALUE=URI;X-ADDRESS=Portrait in Blackwork;X-APP
 LE-RADIUS=100;X-TITLE=Portrait in Blackwork:geo:0,0
END:VEVENT
BEGIN:VEVENT
UID:30@embroiderersguildqld.org.au
DTSTART;TZID=Australia/Brisbane:20251005T093000
DTEND;TZID=Australia/Brisbane:20251005T150000
DTSTAMP:20250825T005516Z
URL:https://embroiderersguildqld.org.au/classes/mounting-for-embroidery/
SUMMARY:Mounting for Embroidery
DESCRIPTION:Mounting for Embroidery
ATTACH;FMTTYPE=image/jpeg:https://embroiderersguildqld.org.au/wordpress/wp
 -content/uploads/2025/06/WEB-Class-Mounting.jpg
CATEGORIES:Classes
LOCATION:Mounting for Embroidery
X-APPLE-STRUCTURED-LOCATION;VALUE=URI;X-ADDRESS=Mounting for Embroidery;X-A
 PPLE-RADIUS=100;X-TITLE=Mounting for Embroidery:geo:0,0
END:VEVENT
BEGIN:VEVENT
UID:38@embroiderersguildqld.org.au
DTSTART;TZID=Australia/Brisbane:20251012T130000
DTEND;TZID=Australia/Brisbane:20251012T160000
DTSTAMP:20251008T055615Z
URL:https://embroiderersguildqld.org.au/classes/start-stitching-october-12
 /
SUMMARY:Start Stitching 12 October
DESCRIPTION:Start Stitching 12 October
ATTACH;FMTTYPE=image/jpeg:https://embroiderersguildqld.org.au/wordpress/wp
 -content/uploads/2025/08/SS2408-Add-a-Stitch-2.webp
CATEGORIES:Classes,Start Stitching
LOCATION:Start Stitching 12 October
X-APPLE-STRUCTURED-LOCATION;VALUE=URI;X-ADDRESS=Start Stitching 12 October;
 X-APPLE-RADIUS=100;X-TITLE=Start Stitching 12 October:geo:0,0
END:VEVENT
BEGIN:VEVENT
UID:44@embroiderersguildqld.org.au
DTSTART;TZID=Australia/Brisbane:20251109T130000
DTEND;TZID=Australia/Brisbane:20251109T160000
DTSTAMP:20251027T082403Z
URL:https://embroiderersguildqld.org.au/classes/christmas-mini-stocking-or
 nament/
SUMMARY:Christmas Mini Stocking Ornament
DESCRIPTION:Christmas Mini Stocking Ornament
ATTACH;FMTTYPE=image/jpeg:https://embroiderersguildqld.org.au/wordpress/wp
 -content/uploads/2025/10/Mini-Christmas-Stocking-thumb.webp
CATEGORIES:Classes,Start Stitching
LOCATION:Christmas Mini Stocking Ornament
X-APPLE-STRUCTURED-LOCATION;VALUE=URI;X-ADDRESS=Christmas Mini Stocking Orn
 ament;X-APPLE-RADIUS=100;X-TITLE=Christmas Mini Stocking Ornament:geo:0,0
END:VEVENT
BEGIN:VEVENT
UID:1@embroiderersguildqld.org.au
DTSTART;TZID=Australia/Brisbane:20251123T090000
DTEND;TZID=Australia/Brisbane:20251123T130000
DTSTAMP:20251001T054334Z
URL:https://embroiderersguildqld.org.au/classes/christmas-craft-market/
SUMMARY:Christmas Craft Market
DESCRIPTION:Christmas Craft Market
ATTACH;FMTTYPE=image/jpeg:https://embroiderersguildqld.org.au/wordpress/wp
 -content/uploads/2024/12/WEB-Christmas-market.jpg
CATEGORIES:Events
LOCATION:Christmas Craft Market
X-APPLE-STRUCTURED-LOCATION;VALUE=URI;X-ADDRESS=Christmas Craft Market;X-AP
 PLE-RADIUS=100;X-TITLE=Christmas Craft Market:geo:0,0
END:VEVENT
BEGIN:VEVENT
UID:31@embroiderersguildqld.org.au
DTSTART;TZID=Australia/Brisbane:20251130T093000
DTEND;TZID=Australia/Brisbane:20251130T150000
DTSTAMP:20251109T155751Z
URL:https://embroiderersguildqld.org.au/classes/hems-and-hemstitching/
SUMMARY:Hems and Hemstitching
DESCRIPTION:Hems and Hemstitching
ATTACH;FMTTYPE=image/jpeg:https://embroiderersguildqld.org.au/wordpress/wp
 -content/uploads/2025/06/WEB-Class-Hems.jpg
CATEGORIES:Classes
LOCATION:Hems and Hemstitching
X-APPLE-STRUCTURED-LOCATION;VALUE=URI;X-ADDRESS=Hems and Hemstitching;X-APP
 LE-RADIUS=100;X-TITLE=Hems and Hemstitching:geo:0,0
END:VEVENT
BEGIN:VEVENT
UID:49@embroiderersguildqld.org.au
DTSTART;TZID=Australia/Brisbane:20251213T130000
DTEND;TZID=Australia/Brisbane:20251213T150000
DTSTAMP:20251128T233917Z
URL:https://embroiderersguildqld.org.au/classes/members-christmas-party/
SUMMARY:Members Christmas Party
DESCRIPTION:Members Christmas Party
ATTACH;FMTTYPE=image/jpeg:https://embroiderersguildqld.org.au/wordpress/wp
 -content/uploads/2025/11/Christmas-Party.webp
CATEGORIES:Events
LOCATION:Members Christmas Party
X-APPLE-STRUCTURED-LOCATION;VALUE=URI;X-ADDRESS=Members Christmas Party;X-A
 PPLE-RADIUS=100;X-TITLE=Members Christmas Party:geo:0,0
END:VEVENT
BEGIN:VEVENT
UID:56@embroiderersguildqld.org.au
DTSTART;TZID=Australia/Brisbane:20260207T093000
DTEND;TZID=Australia/Brisbane:20260208T153000
DTSTAMP:20260126T084722Z
URL:https://embroiderersguildqld.org.au/classes/silk-and-gold-flower/
SUMMARY:Silk and Gold Flower
DESCRIPTION:Silk and Gold Flower
ATTACH;FMTTYPE=image/jpeg:https://embroiderersguildqld.org.au/wordpress/wp
 -content/uploads/2026/01/AB0702-Flowers-silk-gold.webp
CATEGORIES:Classes
LOCATION:Silk and Gold Flower
X-APPLE-STRUCTURED-LOCATION;VALUE=URI;X-ADDRESS=Silk and Gold Flower;X-APPL
 E-RADIUS=100;X-TITLE=Silk and Gold Flower:geo:0,0
END:VEVENT
BEGIN:VEVENT
UID:53@embroiderersguildqld.org.au
DTSTART;TZID=Australia/Brisbane:20260208T130000
DTEND;TZID=Australia/Brisbane:20260208T160000
DTSTAMP:20260115T061613Z
URL:https://embroiderersguildqld.org.au/classes/start-stitching-8-february
 -2026/
SUMMARY:Start Stitching 8 February 2026
DESCRIPTION:Start Stitching 8 February 2026
ATTACH;FMTTYPE=image/jpeg:https://embroiderersguildqld.org.au/wordpress/wp
 -content/uploads/2025/12/Mar-P3-4.webp
CATEGORIES:Classes,Start Stitching
LOCATION:Start Stitching 8 February 2026
X-APPLE-STRUCTURED-LOCATION;VALUE=URI;X-ADDRESS=Start Stitching 8 February 
 2026;X-APPLE-RADIUS=100;X-TITLE=Start Stitching 8 February 2026:geo:0,0
END:VEVENT
BEGIN:VEVENT
UID:34@embroiderersguildqld.org.au
DTSTART;TZID=Australia/Brisbane:20260228T093000
DTEND;TZID=Australia/Brisbane:20260228T150000
DTSTAMP:20260225T043353Z
URL:https://embroiderersguildqld.org.au/classes/classes-template-duplicate
 -me/
SUMMARY:Colour Theory
DESCRIPTION:Colour Theory
ATTACH;FMTTYPE=image/jpeg:https://embroiderersguildqld.org.au/wordpress/wp
 -content/uploads/2025/12/PP2802-Colour-web-image.webp
CATEGORIES:Classes
LOCATION:Colour Theory
X-APPLE-STRUCTURED-LOCATION;VALUE=URI;X-ADDRESS=Colour Theory;X-APPLE-RADIU
 S=100;X-TITLE=Colour Theory:geo:0,0
END:VEVENT
BEGIN:VEVENT
UID:57@embroiderersguildqld.org.au
DTSTART;TZID=Australia/Brisbane:20260307T093000
DTEND;TZID=Australia/Brisbane:20260307T150000
DTSTAMP:20260208T112305Z
URL:https://embroiderersguildqld.org.au/classes/exploring-more-stitches/
SUMMARY:Exploring More Stitches
DESCRIPTION:Exploring More Stitches
ATTACH;FMTTYPE=image/jpeg:https://embroiderersguildqld.org.au/wordpress/wp
 -content/uploads/2026/01/LM0703-Exploring-26-2.webp
CATEGORIES:Classes
LOCATION:Exploring More Stitches
X-APPLE-STRUCTURED-LOCATION;VALUE=URI;X-ADDRESS=Exploring More Stitches;X-A
 PPLE-RADIUS=100;X-TITLE=Exploring More Stitches:geo:0,0
END:VEVENT
BEGIN:VEVENT
UID:55@embroiderersguildqld.org.au
DTSTART;TZID=Australia/Brisbane:20260308T130000
DTEND;TZID=Australia/Brisbane:20260308T160000
DTSTAMP:20260212T014851Z
URL:https://embroiderersguildqld.org.au/classes/start-stitching-8-march-20
 26/
SUMMARY:Start Stitching 8 March 2026
DESCRIPTION:Start Stitching 8 March 2026
ATTACH;FMTTYPE=image/jpeg:https://embroiderersguildqld.org.au/wordpress/wp
 -content/uploads/2025/12/Feb-P1-2.webp
CATEGORIES:Classes,Start Stitching
LOCATION:Start Stitching 8 March 2026
X-APPLE-STRUCTURED-LOCATION;VALUE=URI;X-ADDRESS=Start Stitching 8 March 202
 6;X-APPLE-RADIUS=100;X-TITLE=Start Stitching 8 March 2026:geo:0,0
END:VEVENT
BEGIN:VEVENT
UID:46@embroiderersguildqld.org.au
DTSTART;TZID=Australia/Brisbane:20260315T093000
DTEND;TZID=Australia/Brisbane:20260315T150000
DTSTAMP:20260311T055548Z
URL:https://embroiderersguildqld.org.au/classes/a-shelf-of-flowers/
SUMMARY:A Shelf of Flowers
DESCRIPTION:A Shelf of Flowers
ATTACH;FMTTYPE=image/jpeg:https://embroiderersguildqld.org.au/wordpress/wp
 -content/uploads/2025/10/DL1503-Flowers-web-image-1.webp
CATEGORIES:Classes
LOCATION:A Shelf of Flowers
X-APPLE-STRUCTURED-LOCATION;VALUE=URI;X-ADDRESS=A Shelf of Flowers;X-APPLE-
 RADIUS=100;X-TITLE=A Shelf of Flowers:geo:0,0
END:VEVENT
BEGIN:VEVENT
UID:58@embroiderersguildqld.org.au
DTSTART;TZID=Australia/Brisbane:20260322T093000
DTEND;TZID=Australia/Brisbane:20260322T150000
DTSTAMP:20260311T055612Z
URL:https://embroiderersguildqld.org.au/classes/stumpwork-briar-rose/
SUMMARY:Stumpwork Briar Rose
DESCRIPTION:Stumpwork Briar Rose
ATTACH;FMTTYPE=image/jpeg:https://embroiderersguildqld.org.au/wordpress/wp
 -content/uploads/2026/01/AL2203-Briar-Rose-Website-V4.webp
CATEGORIES:Classes
LOCATION:Stumpwork Briar Rose
X-APPLE-STRUCTURED-LOCATION;VALUE=URI;X-ADDRESS=Stumpwork Briar Rose;X-APPL
 E-RADIUS=100;X-TITLE=Stumpwork Briar Rose:geo:0,0
END:VEVENT
BEGIN:VEVENT
UID:63@embroiderersguildqld.org.au
DTSTART;TZID=Australia/Brisbane:20260412T130000
DTEND;TZID=Australia/Brisbane:20260412T160000
DTSTAMP:20260311T055653Z
URL:https://embroiderersguildqld.org.au/classes/start-stitching-12-april-2
 026/
SUMMARY:Start Stitching 12 April 2026
DESCRIPTION:Start Stitching 12 April 2026
ATTACH;FMTTYPE=image/jpeg:https://embroiderersguildqld.org.au/wordpress/wp
 -content/uploads/2026/01/SS1204-decorate-4.webp
CATEGORIES:Classes,Start Stitching
LOCATION:Start Stitching 12 April 2026
X-APPLE-STRUCTURED-LOCATION;VALUE=URI;X-ADDRESS=Start Stitching 12 April 20
 26;X-APPLE-RADIUS=100;X-TITLE=Start Stitching 12 April 2026:geo:0,0
END:VEVENT
BEGIN:VEVENT
UID:73@embroiderersguildqld.org.au
DTSTART;TZID=Australia/Brisbane:20260419T090000
DTEND;TZID=Australia/Brisbane:20260419T130000
DTSTAMP:20260315T232445Z
URL:https://embroiderersguildqld.org.au/classes/autumn-craft-market/
SUMMARY:Autumn Craft Market 2026
DESCRIPTION:Autumn Craft Market 2026
ATTACH;FMTTYPE=image/jpeg:https://embroiderersguildqld.org.au/wordpress/wp
 -content/uploads/2026/03/2026-Autumn-Craft-Market-YouTube-Thumbnail.webp
CATEGORIES:Events
LOCATION:Autumn Craft Market 2026
X-APPLE-STRUCTURED-LOCATION;VALUE=URI;X-ADDRESS=Autumn Craft Market 2026;X-
 APPLE-RADIUS=100;X-TITLE=Autumn Craft Market 2026:geo:0,0
END:VEVENT
BEGIN:VEVENT
UID:68@embroiderersguildqld.org.au
DTSTART;TZID=Australia/Brisbane:20260509T093000
DTEND;TZID=Australia/Brisbane:20260509T150000
DTSTAMP:20260421T104630Z
URL:https://embroiderersguildqld.org.au/classes/pulled-thread-leaf/
SUMMARY:Pulled Thread Leaf
DESCRIPTION:Pulled Thread Leaf
ATTACH;FMTTYPE=image/jpeg:https://embroiderersguildqld.org.au/wordpress/wp
 -content/uploads/2026/02/DE0905-Pulled-Thread-2.webp
CATEGORIES:Classes
LOCATION:Pulled Thread Leaf
X-APPLE-STRUCTURED-LOCATION;VALUE=URI;X-ADDRESS=Pulled Thread Leaf;X-APPLE-
 RADIUS=100;X-TITLE=Pulled Thread Leaf:geo:0,0
END:VEVENT
BEGIN:VEVENT
UID:64@embroiderersguildqld.org.au
DTSTART;TZID=Australia/Brisbane:20260510T130000
DTEND;TZID=Australia/Brisbane:20260510T160000
DTSTAMP:20260416T112953Z
URL:https://embroiderersguildqld.org.au/classes/start-stitching-10-may-202
 6/
SUMMARY:Start Stitching 10 May 2026
DESCRIPTION:Start Stitching 10 May 2026
ATTACH;FMTTYPE=image/jpeg:https://embroiderersguildqld.org.au/wordpress/wp
 -content/uploads/2026/01/SS1005-Denim.webp
CATEGORIES:Classes,Start Stitching
LOCATION:Start Stitching 10 May 2026
X-APPLE-STRUCTURED-LOCATION;VALUE=URI;X-ADDRESS=Start Stitching 10 May 2026
 ;X-APPLE-RADIUS=100;X-TITLE=Start Stitching 10 May 2026:geo:0,0
END:VEVENT
BEGIN:VEVENT
UID:76@embroiderersguildqld.org.au
DTSTART;TZID=Australia/Brisbane:20260517T093000
DTEND;TZID=Australia/Brisbane:20260524T150000
DTSTAMP:20260316T013728Z
URL:https://embroiderersguildqld.org.au/classes/elizabethan-fragment-in-si
 lk-and-gold/
SUMMARY:Elizabethan Fragment in Silk and Gold
DESCRIPTION:Elizabethan Fragment in Silk and Gold
ATTACH;FMTTYPE=image/jpeg:https://embroiderersguildqld.org.au/wordpress/wp
 -content/uploads/2026/03/SR1705-Elizabethan-Fragment.webp
CATEGORIES:Classes
LOCATION:Elizabethan Fragment in Silk and Gold
X-APPLE-STRUCTURED-LOCATION;VALUE=URI;X-ADDRESS=Elizabethan Fragment in Sil
 k and Gold;X-APPLE-RADIUS=100;X-TITLE=Elizabethan Fragment in Silk and Gol
 d:geo:0,0
END:VEVENT
BEGIN:VEVENT
UID:51@embroiderersguildqld.org.au
DTSTART;TZID=Australia/Brisbane:20260523T093000
DTEND;TZID=Australia/Brisbane:20260530T150000
DTSTAMP:20260418T081502Z
URL:https://embroiderersguildqld.org.au/classes/blue-biscornu-in-canvas/
SUMMARY:Blue Biscornu in Canvas
DESCRIPTION:Blue Biscornu in Canvas
ATTACH;FMTTYPE=image/jpeg:https://embroiderersguildqld.org.au/wordpress/wp
 -content/uploads/2025/12/PP2305-Canvas-complete.webp
CATEGORIES:Classes
LOCATION:Blue Biscornu in Canvas
X-APPLE-STRUCTURED-LOCATION;VALUE=URI;X-ADDRESS=Blue Biscornu in Canvas;X-A
 PPLE-RADIUS=100;X-TITLE=Blue Biscornu in Canvas:geo:0,0
END:VEVENT
BEGIN:VEVENT
UID:74@embroiderersguildqld.org.au
DTSTART;TZID=Australia/Brisbane:20260611T100000
DTEND;TZID=Australia/Brisbane:20260614T150000
DTSTAMP:20260314T082342Z
URL:https://embroiderersguildqld.org.au/classes/2624/
SUMMARY:Precious Threads 2026 Biennial Exhibition
DESCRIPTION:Precious Threads 2026 Biennial Exhibition
ATTACH;FMTTYPE=image/jpeg:https://embroiderersguildqld.org.au/wordpress/wp
 -content/uploads/2026/03/2026-PreciousThreads-2-Thumbnail.webp
CATEGORIES:Events
LOCATION:Precious Threads 2026 Biennial Exhibition
X-APPLE-STRUCTURED-LOCATION;VALUE=URI;X-ADDRESS=Precious Threads 2026 Bienn
 ial Exhibition;X-APPLE-RADIUS=100;X-TITLE=Precious Threads 2026 Biennial E
 xhibition:geo:0,0
END:VEVENT
BEGIN:VEVENT
UID:71@embroiderersguildqld.org.au
DTSTART;TZID=Australia/Brisbane:20260621T130000
DTEND;TZID=Australia/Brisbane:20260621T160000
DTSTAMP:20260419T060405Z
URL:https://embroiderersguildqld.org.au/classes/start-stitching-12-april-2
 026-2/
SUMMARY:Start Stitching 21 June 2026
DESCRIPTION:Start Stitching 21 June 2026
ATTACH;FMTTYPE=image/jpeg:https://embroiderersguildqld.org.au/wordpress/wp
 -content/uploads/2026/03/SS2106-Pear-1.webp
CATEGORIES:Classes,Start Stitching
LOCATION:Start Stitching 21 June 2026
X-APPLE-STRUCTURED-LOCATION;VALUE=URI;X-ADDRESS=Start Stitching 21 June 202
 6;X-APPLE-RADIUS=100;X-TITLE=Start Stitching 21 June 2026:geo:0,0
END:VEVENT
BEGIN:VEVENT
UID:52@embroiderersguildqld.org.au
DTSTART;TZID=Australia/Brisbane:20260801T093000
DTEND;TZID=Australia/Brisbane:20260801T150000
DTSTAMP:20260311T055925Z
URL:https://embroiderersguildqld.org.au/classes/sara-lee-letter/
SUMMARY:Sara Lee Letter
DESCRIPTION:Sara Lee Letter
ATTACH;FMTTYPE=image/jpeg:https://embroiderersguildqld.org.au/wordpress/wp
 -content/uploads/2025/12/PP0108-letter-S.webp
CATEGORIES:Classes
LOCATION:Sara Lee Letter
X-APPLE-STRUCTURED-LOCATION;VALUE=URI;X-ADDRESS=Sara Lee Letter;X-APPLE-RAD
 IUS=100;X-TITLE=Sara Lee Letter:geo:0,0
END:VEVENT
BEGIN:VEVENT
UID:69@embroiderersguildqld.org.au
DTSTART;TZID=Australia/Brisbane:20260823T130000
DTEND;TZID=Australia/Brisbane:20260823T160000
DTSTAMP:20260311T055956Z
URL:https://embroiderersguildqld.org.au/classes/start-stitching-23-august-
 2026/
SUMMARY:Start Stitching 23 August 2026
DESCRIPTION:Start Stitching 23 August 2026
ATTACH;FMTTYPE=image/jpeg:https://embroiderersguildqld.org.au/wordpress/wp
 -content/uploads/2025/12/Mar-P3-4.webp
CATEGORIES:Classes,Start Stitching
LOCATION:Start Stitching 23 August 2026
X-APPLE-STRUCTURED-LOCATION;VALUE=URI;X-ADDRESS=Start Stitching 23 August 2
 026;X-APPLE-RADIUS=100;X-TITLE=Start Stitching 23 August 2026:geo:0,0
END:VEVENT
BEGIN:VEVENT
UID:59@embroiderersguildqld.org.au
DTSTART;TZID=Australia/Brisbane:20260906T093000
DTEND;TZID=Australia/Brisbane:20260906T150000
DTSTAMP:20260418T062921Z
URL:https://embroiderersguildqld.org.au/classes/deerfield-blue-bird-pincus
 hion/
SUMMARY:Deerfield Blue Bird Pincushion
DESCRIPTION:Deerfield Blue Bird Pincushion
ATTACH;FMTTYPE=image/jpeg:https://embroiderersguildqld.org.au/wordpress/wp
 -content/uploads/2026/01/DL0609-Deerfield-web-image.webp
CATEGORIES:Classes
LOCATION:Deerfield Blue Bird Pincushion
X-APPLE-STRUCTURED-LOCATION;VALUE=URI;X-ADDRESS=Deerfield Blue Bird Pincush
 ion;X-APPLE-RADIUS=100;X-TITLE=Deerfield Blue Bird Pincushion:geo:0,0
END:VEVENT
BEGIN:VEVENT
UID:70@embroiderersguildqld.org.au
DTSTART;TZID=Australia/Brisbane:20260913T130000
DTEND;TZID=Australia/Brisbane:20260913T160000
DTSTAMP:20260311T060137Z
URL:https://embroiderersguildqld.org.au/classes/start-stitching-13-septemb
 er-2026/
SUMMARY:Start Stitching 13 September 2026
DESCRIPTION:Start Stitching 13 September 2026
ATTACH;FMTTYPE=image/jpeg:https://embroiderersguildqld.org.au/wordpress/wp
 -content/uploads/2025/12/Feb-P1-2.webp
CATEGORIES:Classes,Start Stitching
LOCATION:Start Stitching 13 September 2026
X-APPLE-STRUCTURED-LOCATION;VALUE=URI;X-ADDRESS=Start Stitching 13 Septembe
 r 2026;X-APPLE-RADIUS=100;X-TITLE=Start Stitching 13 September 2026:geo:0,
 0
END:VEVENT
BEGIN:VEVENT
UID:77@embroiderersguildqld.org.au
DTSTART;TZID=Australia/Brisbane:20260920T093000
DTEND;TZID=Australia/Brisbane:20260920T150000
DTSTAMP:20260419T055639Z
URL:https://embroiderersguildqld.org.au/classes/the-jewels-of-india-purse/
SUMMARY:The Jewels of India Purse
DESCRIPTION:The Jewels of India Purse
ATTACH;FMTTYPE=image/jpeg:https://embroiderersguildqld.org.au/wordpress/wp
 -content/uploads/2026/04/DL2009-Indian-Purse.webp
CATEGORIES:Classes
LOCATION:The Jewels of India Purse
X-APPLE-STRUCTURED-LOCATION;VALUE=URI;X-ADDRESS=The Jewels of India Purse;X
 -APPLE-RADIUS=100;X-TITLE=The Jewels of India Purse:geo:0,0
END:VEVENT
BEGIN:VEVENT
UID:50@embroiderersguildqld.org.au
DTSTART;TZID=Australia/Brisbane:20261004T093000
DTEND;TZID=Australia/Brisbane:20261004T150000
DTSTAMP:20260311T060259Z
URL:https://embroiderersguildqld.org.au/classes/hems-and-hemstitching-2/
SUMMARY:Hems and Hemstitching
DESCRIPTION:Hems and Hemstitching
ATTACH;FMTTYPE=image/jpeg:https://embroiderersguildqld.org.au/wordpress/wp
 -content/uploads/2025/12/DL01011-Hems-web-image.webp
CATEGORIES:Classes
LOCATION:Hems and Hemstitching
X-APPLE-STRUCTURED-LOCATION;VALUE=URI;X-ADDRESS=Hems and Hemstitching;X-APP
 LE-RADIUS=100;X-TITLE=Hems and Hemstitching:geo:0,0
END:VEVENT
BEGIN:VTIMEZONE
TZID:Australia/Brisbane
X-LIC-LOCATION:Australia/Brisbane
BEGIN:STANDARD
DTSTART:20240705T093000
TZOFFSETFROM:+1000
TZOFFSETTO:+1000
TZNAME:AEST
END:STANDARD
END:VTIMEZONE
END:VCALENDAR