BEGIN:VCALENDAR
VERSION:2.0
PRODID:-//The Embroiderers&#039; Guild, Queensland Inc. - ECPv4.9.6//NONSGML v1.0//EN
CALSCALE:GREGORIAN
METHOD:PUBLISH
X-WR-CALNAME:The Embroiderers&#039; Guild, Queensland Inc.
X-ORIGINAL-URL:http://www.embroiderersguildqld.org.au
X-WR-CALDESC:Events for The Embroiderers&#039; Guild, Queensland Inc.
BEGIN:VTIMEZONE
TZID:"Australia/Brisbane"
BEGIN:STANDARD
TZOFFSETFROM:+1000
TZOFFSETTO:+1000
TZNAME:AEST
DTSTART:20200101T000000
END:STANDARD
END:VTIMEZONE
BEGIN:VEVENT
DTSTART;TZID="Australia/Brisbane":20200104T080000
DTEND;TZID="Australia/Brisbane":20200104T170000
DTSTAMP:20200227T024641
CREATED:20200104T092710Z
LAST-MODIFIED:20200104T092710Z
UID:2416-1578124800-1578157200@www.embroiderersguildqld.org.au
SUMMARY:Hardanger Bon Bon Pincushion – Day 2
DESCRIPTION:This is the 2nd day of the class started on Tuesday April 21 (Day 1) and will focus on Hardanger Embroidery encompassing some counted thread embroidery techniques from Norway. Hardanger Embroidery is traditionally a white on white embroidery which features on aprons and shirts worn as part of traditional folk costumes.  \nAttendance on Day 1 is essential in order to attend Day 2. \nTutor\nAlana Wegner \n
URL:http://www.embroiderersguildqld.org.au/event/hardanger-bon-bon-pincushion-day-2/
END:VEVENT
END:VCALENDAR